BEGIN:VCALENDAR
VERSION:2.0
PRODID:Events Booking
BEGIN:VEVENT
UID:69e7dd0349387
SUMMARY:Workshop: Eigene Astrofotos erstellen
DESCRIPTION:Sie haben Interesse einmal ein eigenes Astrofoto zu erstellen? 
 Dann können wir Ihnen folgendes anbieten:
 
 Wir treffen uns am 18.1.20
 24&nbsp\;14.12.2023 um 18:00 Uhr auf der Keplersternwarte in Weil der Stad
 t und geben unsere Erfahrungen weiter. Aus organisatorischen Gründen muss
 ten wir den Workshop leider verschieben.
 Nach einer kurzen Einführung f
 ühren wir ein sogenanntes Livestacking mittels einer Kamera an einem Tele
 skop durch. Beim Livestacking werden viele\, relativ kurz belichtete Aufna
 hmen direkt im Rechner zusammengefügt. Ähnlich wie in länger belichtete
 n Aufnahmen nimmt dadurch das Rauschen ab. Nach Abschluss der Bildaufnahme
 n bearbeiten wir das Rohbild mit diversen frei erhältlichen Programmen: S
 iril\, GraXpert\, Gimp und Astro Denoise. Die Software können Sie über d
 ie Links in den Bildern finden bzw. Astro Denoise bei GitHub herunterladen
 .
 
 Das fertig bearbeitete Ergebnis können Sie mit nach Hause nehmen. 
 Bringen Sie dazu einen eigenen Datenträger mit (USB-Stick oder externe Fe
 stplatte). Wenn Sie Ihren eigenen PC mitbringen\, können Sie die Bearbeit
 ung selbst vor Ort nachvollziehen. Die oben angeführten Programme sollten
  dazu bereits auf dem Rechner installiert sein.
 Der Workshop findet bei 
 jedem Wetter statt. Sollte es nicht möglich sein die Kuppel der Sternwart
 e zu öffnen\, dann stellen wir Rohdaten zur Verfügung.
 Dauer der Veran
 staltung ca. 2 Stunden mit offenem Ende. Sie zahlen lediglich 2 € Eintri
 tt für die Sternwarte. Für die Mitglieder der Keplergesellschaft ist die
  Veranstaltung wie immer frei. Warme Kleidung mitbringen! Die Teilnehmerza
 hl ist auf 8 Personen begrenzt.
 Haben wir Ihr Interesse geweckt? Dann me
 lden Sie sich bitte hier an.
 
LOCATION:Johannes-Kepler-Gymnasium\, Max-Caspar-Straße 47\, Weil der Stadt
 \, Baden-Württemberg\, 71263\, Deutschland
DTSTART:20240118T170000Z
DTEND:20240118T200000Z
DTSTAMP:20231121T180308Z
ORGANIZER;CN=workshop@ kepler-sternwarte.de:MAILTO:workshop@kepler-sternwar
 te.de
GEO:48.752784;8.861008
X-APPLE-STRUCTURED-LOCATION;VALUE=URI;X-ADDRESS=Johannes-Kepler-Gymnasium\,
  Max-Caspar-Straße 47\, Weil der Stadt\, Baden-Württemberg\, 71263\, Deu
 tschland;X-APPLE-RADIUS=72;X-TITLE=Johannes Kepler Sternwarte Weil der Sta
 dt:48.752784;8.861008
END:VEVENT
END:VCALENDAR