BEGIN:VCALENDAR
VERSION:2.0
PRODID:Events Booking
BEGIN:VEVENT
UID:69e817b35697f
SUMMARY:Venus trifft Mond
DESCRIPTION:
 Begegnung von Mond und Venus am Donnerstag\, 9. November mit
  Bedeckung der Venus durch den Mond.&nbsp\;
 Wir öffnen die Sternwarte a
 n diesem Tag zur Beobachtung um 10:15 Uhr\, sofern der Himmel klar und der
  Mond sichtbar ist.
 
LOCATION:Johannes-Kepler-Gymnasium\, Max-Caspar-Straße 47\, Weil der Stadt
 \, Baden-Württemberg\, 71263\, Deutschland
DTSTART:20231109T091500Z
DTEND:20231109T130000Z
DTSTAMP:20231031T172935Z
ORGANIZER;CN=workshop@ kepler-sternwarte.de:MAILTO:workshop@kepler-sternwar
 te.de
GEO:48.752784;8.861008
X-APPLE-STRUCTURED-LOCATION;VALUE=URI;X-ADDRESS=Johannes-Kepler-Gymnasium\,
  Max-Caspar-Straße 47\, Weil der Stadt\, Baden-Württemberg\, 71263\, Deu
 tschland;X-APPLE-RADIUS=72;X-TITLE=Johannes Kepler Sternwarte Weil der Sta
 dt:48.752784;8.861008
END:VEVENT
END:VCALENDAR