BEGIN:VCALENDAR
VERSION:2.0
PRODID:Events Booking
BEGIN:VEVENT
UID:69e88a920ea9a
SUMMARY:Jugendgruppe: Exkursion „Raumfahrt-Allee und Planetenweg-Wanderun
 g“
DESCRIPTION:
 &nbsp\;
 Liebe Teilnehmerinnen und Teilnehmer der Jugendgru
 ppe\,
 in diesem Jahr können wir für euch wieder eine Sonderveranstaltu
 ng organisieren und laden euch mit Eltern und Geschwistern herzlich ein\, 
 mit uns eine geführte Raumfahrt-Allee Exkursion und Planetenweg-Wanderung
  am Freitag\, dem 16. Juni 2023 durchzuführen.
 Die erste Raumfahrt-Alle
 e Deutschlands wurde anlässlich des 450. Geburtstag von Johannes Kepler u
 nd des 60. Jahrestags des Weltraumflugs Juri Gagarins im Oktober 2021 in W
 eil der Stadt eröffnet\, die inzwischen eine Astronautin und neun Astrona
 uten und Kosmonauten aus vier Ländern besucht haben\, darunter sechs von 
 zwölf deutschen Raumfahrern.
 Der Johannes-Kepler-Planetenweg wurde im J
 uni 2012 eingeweiht. Er verläuft von Weil der Stadt zum großen Teil entl
 ang des Würmtal-Radwegs. Von der Sonne bis zum Neptun sind es 10 km. Aber
  keine Angst\, wir werden mit euch nur einen Teil dieses Weges Richtung Me
 rklingen und zurück laufen.
 Wir treffen uns um 16:00 Uhr in Weil der St
 adt auf dem Marktplatz. Nach der Erklärung der RaumfahrtAllee beginnen wi
 r um ca. 16:30 Uhr unsere Planetenweg-Wanderung und besichtigen die InfoSt
 ationen mit ausführlichen Erklärungen und schönen Bildern zur Sonne und
  zu den Planeten Merkur\, Venus\, Erde\, Mars und Jupiter. Wir werden geme
 insam über die Planeten und das Sonnensystem diskutieren. Bringt eure Fra
 gen und Ideen mit!
 Danach laufen wir zurück und werden gegen 19:00 am F
 estplatz in Weil der Stadt ankommen. Zwischendurch werden wir Vesper- und 
 Spielpausen einplanen. Bitte bringt Vesper\, Getränke und kleine Spiele\,
  die für die Wiese geeignet sind\, mit. Diese Veranstaltung ist kostenlos
 \, eine Anmeldung ist nicht erforderlich. Das schöne Würmtal bietet gen
 ügend Platz für alle! Bitte feste Schuhe anziehen und an Sonnen- und Zec
 kenschutz denken. Bei bedecktem Himmel bitte Regenkleidung nicht vergessen
 !
 Raumfahrt-AlleePlanetenweg_Einladung-16.Juni-2023.pdf
LOCATION:Marktplatz\, Weil der Stadt\, 71263 Baden-Württemberg\, Deutschla
 nd
DTSTART:20230616T140000Z
DTEND:20230616T170000Z
DTSTAMP:20230204T125837Z
ORGANIZER;CN=workshop@ kepler-sternwarte.de:MAILTO:workshop@kepler-sternwar
 te.de
GEO:48.749964;8.869655
X-APPLE-STRUCTURED-LOCATION;VALUE=URI;X-ADDRESS=Marktplatz\, Weil der Stadt
 \, 71263 Baden-Württemberg\, Deutschland;X-APPLE-RADIUS=72;X-TITLE=Marktp
 latz Weil der Stadt:48.749964;8.869655
END:VEVENT
END:VCALENDAR