BEGIN:VCALENDAR
VERSION:2.0
PRODID:Events Booking
BEGIN:VEVENT
UID:69e8b80cccfc8
SUMMARY:Asteroidensuche der Jugendgruppe
DESCRIPTION:Nächstes Treffen der Jugendgrupe für die Asteroidensuche am F
 reitag den 28.04.2023 Es sind neue Bilder zur Auswertung vom PS2 Teleskop 
 auf Maui / Hawaii eingetroffen. Wer noch mitachen will ist eingeladen!
 W
 eitere Details auf der Homepage der Jugendgruppe.
LOCATION:Max-Caspar-Straße\,47  Weil der Stadt\, 71263 Baden-Württemberg\
 , Deutschland
DTSTART:20230428T160000Z
DTEND:20230428T173000Z
DTSTAMP:20230204T125837Z
ORGANIZER;CN=workshop@ kepler-sternwarte.de:MAILTO:workshop@kepler-sternwar
 te.de
GEO:48.751763;8.860437
X-APPLE-STRUCTURED-LOCATION;VALUE=URI;X-ADDRESS=Max-Caspar-Straße\,47  Wei
 l der Stadt\, 71263 Baden-Württemberg\, Deutschland;X-APPLE-RADIUS=72;X-T
 ITLE=Johannes Kepler Gymnasium Physik Saal:48.751763;8.860437
END:VEVENT
END:VCALENDAR