BEGIN:VCALENDAR
VERSION:2.0
PRODID:Events Booking
BEGIN:VEVENT
UID:69e8c7b73651f
SUMMARY:Treffen der Jugendgruppe
DESCRIPTION:Unsere Jugendgruppe trifft sich immer am 3.Freitag jeden Monats
 \, ausser während der Schulferien. Details werden auf der Hompage der Jug
 endgruppe bekanntgegeben.
 &nbsp\;
 &nbsp\;
LOCATION:Max-Caspar-Straße\,47  Weil der Stadt\, 71263 Baden-Württemberg\
 , Deutschland
DTSTART:20230317T170000Z
DTEND:20230317T183000Z
DTSTAMP:20230204T125837Z
ORGANIZER;CN=workshop@ kepler-sternwarte.de:MAILTO:workshop@kepler-sternwar
 te.de
GEO:48.751763;8.860437
X-APPLE-STRUCTURED-LOCATION;VALUE=URI;X-ADDRESS=Max-Caspar-Straße\,47  Wei
 l der Stadt\, 71263 Baden-Württemberg\, Deutschland;X-APPLE-RADIUS=72;X-T
 ITLE=Johannes Kepler Gymnasium Physik Saal:48.751763;8.860437
END:VEVENT
END:VCALENDAR