BEGIN:VCALENDAR
VERSION:2.0
PRODID:Events Booking
BEGIN:VEVENT
UID:69e8317897165
SUMMARY:Astronomietag 2023
DESCRIPTION:
 Der Himmel bietet uns an diesem Abend außerdem ein ganz bes
 onderes Schauspiel: es findet eine partielle Mondfinsternis statt.&nbsp\;M
 it dem bloßen Auge wird der Mond nur etwas „angeknabbert“ erscheinen\
 , durch das Fernrohr einer Sternwarte wird man deutlich sehen\, dass dem M
 ond am unteren Rand ein gutes Stück fehlt.
 &nbsp\;
 16:00 Beginn Sonne
 nbeobachtung (bei Wolkenfreiheit)
 17:30 Fotoausstellung\, Teleskopberatu
 ng und Mitmachausstellung der Jugendgruppe.
 18:30 Vortrag: Erscheinungen
  der Sonnen-Oberfläche (Jörg Dubiel\, Kepler-Gesellschaft)
 19:30 Vor
 trag: Das James-Webb-Teleskop (Martin Altenburg\, Airbus GmbH)
 21:15 Him
 melsbeobachtung&nbsp\;an unseren Teleskopen&nbsp\;
 &nbsp\;
 
 Der Mond
  tritt in den Halbschatten der Erde ein: 20:00 Uhr MESZDer Mond tritt in d
 en Kernschatten der Erde ein: 21:35 Uhr MESZHöhepunkt der partiellen Mond
 finsternis: 22:14 Uhr MESZDer Mond tritt aus dem Kernschatten der Erde aus
 : 22:53 Uhr MESZDer Mond tritt aus dem Halbschatten der Erde aus: 00:28 Uh
 r MESZ am 29.10.
 &nbsp\;
 
 &nbsp\;
LOCATION:Johannes-Kepler-Gymnasium\, Max-Caspar-Straße 47\, Weil der Stadt
 \, Baden-Württemberg\, 71263\, Deutschland
DTSTART:20231028T160000Z
DTEND:20231028T210000Z
DTSTAMP:20230205T125349Z
ORGANIZER;CN=workshop@ kepler-sternwarte.de:MAILTO:workshop@kepler-sternwar
 te.de
GEO:48.752784;8.861008
X-APPLE-STRUCTURED-LOCATION;VALUE=URI;X-ADDRESS=Johannes-Kepler-Gymnasium\,
  Max-Caspar-Straße 47\, Weil der Stadt\, Baden-Württemberg\, 71263\, Deu
 tschland;X-APPLE-RADIUS=72;X-TITLE=Johannes Kepler Sternwarte Weil der Sta
 dt:48.752784;8.861008
END:VEVENT
END:VCALENDAR