BEGIN:VCALENDAR
VERSION:2.0
PRODID:Events Booking
BEGIN:VEVENT
UID:69e8f0e71f573
SUMMARY:Sternführung
DESCRIPTION:
 Wir bieten wieder Sternführungen an\, sofern nicht Wolken a
 m Himmel die Sicht versperren. Beginn ist bis Ende März 2023 Freitags um 
 20:00 Uhr. Voraussetzung ist ein sternklarer Himmel.
 Jupiter mit seinen 
 Monden kann in unseren Führungen&nbsp\; im Januar/Februar gezeigt werden\
 , auch Mars ist weiterhin gut zu beobachten. Saturn hat sich bereits vom A
 bendhimmel verabschiedet\, aber die Wintersternbilder und viele 'Deep Sky'
  - Objekte können jetzt bewundert werden.
 Eintritt Erwachsene -&nbsp\;2
 \,00 Euro\, ermäßigt&nbsp\;(Schüler\, Studenten\, sozial Schwächergest
 ellte) -&nbsp\;0\,50 Euro.Eintritt für Weil der Städter Schüler und Mit
 glieder der Keplergesellschaft e.V. Weil der Stadt frei.Bitte kleiden Sie 
 sich warm!!&nbsp\;Nachts wird es sehr kalt\, die Sternwarte ist aus zwinge
 nden Gründen unbeheizt.&nbsp\;&nbsp\;Wir bitten um vorherige Anmeldung&nb
 sp\;bei&nbsp\;Gruppen\, da aus Platzgründen die Teilnehmerzahl pro Führu
 ng auf ca. 15 Personen beschränkt ist. Bei Gruppenführungen sind abweich
 ende Termine nach besonderer Vereinbarung an anderen Wochentagen möglich.
 
 An gesetzlichen Feiertagen&nbsp\;finden keine öffentlichen Führungen 
 statt!Anfragen&nbsp\;zu Sonnenbeobachtungen\, Sternführungen (auch Gruppe
 n) und Terminen schicken Sie uns bitte per E-mail
 
LOCATION:Johannes-Kepler-Gymnasium\, Max-Caspar-Straße 47\, Weil der Stadt
 \, Baden-Württemberg\, 71263\, Deutschland
DTSTART:20230203T190000Z
DTSTAMP:20230131T194444Z
ORGANIZER;CN=workshop@ kepler-sternwarte.de:MAILTO:workshop@kepler-sternwar
 te.de
GEO:48.752784;8.861008
X-APPLE-STRUCTURED-LOCATION;VALUE=URI;X-ADDRESS=Johannes-Kepler-Gymnasium\,
  Max-Caspar-Straße 47\, Weil der Stadt\, Baden-Württemberg\, 71263\, Deu
 tschland;X-APPLE-RADIUS=72;X-TITLE=Johannes Kepler Sternwarte Weil der Sta
 dt:48.752784;8.861008
END:VEVENT
END:VCALENDAR