BEGIN:VCALENDAR
VERSION:2.0
PRODID:Events Booking
BEGIN:VEVENT
UID:69e8d44d81daa
SUMMARY:Sternführung
DESCRIPTION:
 Wir bieten wieder Sternführungen an\, sofern nicht Wolken a
 m Himmel die Sicht versperren. Beginn ist bis Ende März 2023 Freitags um 
 20:00 Uhr. Voraussetzung ist ein sternklarer Himmel. Eine Anmeldung ist ni
 cht mehr erforderlich. Für größere Gruppen\, ab 8 Personen\, bitten wir
  um eine Anmeldung über unser Kontaktformular.
 
DTSTART:20230331T180000Z
DTEND:20230331T200000Z
DTSTAMP:20230204T124840Z
ORGANIZER;CN=workshop@ kepler-sternwarte.de:MAILTO:workshop@kepler-sternwar
 te.de
END:VEVENT
END:VCALENDAR