BEGIN:VCALENDAR
VERSION:2.0
PRODID:Events Booking
BEGIN:VEVENT
UID:69e8a1160c3b4
SUMMARY:Sternführung
DESCRIPTION:
 Wir bieten wieder Sternführungen an\, sofern nicht Wolken a
 m Himmel die Sicht versperren. Beginn im April und Mai 2023 Freitags um 22
 :00 Uhr. Voraussetzung ist ein sternklarer Himmel. Eine Anmeldung ist nich
 t mehr erforderlich. Für größere Gruppen\, ab 8 Personen\, bitten wir u
 m eine Anmeldung über unser Kontaktformular.
 
DTSTART:20230519T200000Z
DTEND:20230519T215500Z
DTSTAMP:20230204T124840Z
ORGANIZER;CN=workshop@ kepler-sternwarte.de:MAILTO:workshop@kepler-sternwar
 te.de
END:VEVENT
END:VCALENDAR