BEGIN:VCALENDAR
VERSION:2.0
PRODID:Events Booking
BEGIN:VEVENT
UID:69e8b60eaa1d2
SUMMARY:Sonderführung Sonne
DESCRIPTION:
 Wir bieten eine Sonderführung Sonne bei geeignetem Wetter v
 on 11 Uhr bis 12 Uhr an. Für größere Gruppen ab 8 Personen bitte über 
 unser Kontaktformular anmelden.
 Wir werden die Sonne im Weisslicht und i
 m Licht der roten Wasserstofflinie ( H-alpha) beobachten. Falls vorhanden 
 auch Sonnenfinsternisbrillen mitbringen.
 &nbsp\;
 
LOCATION:Johannes-Kepler-Gymnasium\, Max-Caspar-Straße 47\, Weil der Stadt
 \, Baden-Württemberg\, 71263\, Deutschland
DTSTART:20230422T090000Z
DTEND:20230422T100000Z
DTSTAMP:20230203T174250Z
ORGANIZER;CN=workshop@ kepler-sternwarte.de:MAILTO:workshop@kepler-sternwar
 te.de
GEO:48.752784;8.861008
X-APPLE-STRUCTURED-LOCATION;VALUE=URI;X-ADDRESS=Johannes-Kepler-Gymnasium\,
  Max-Caspar-Straße 47\, Weil der Stadt\, Baden-Württemberg\, 71263\, Deu
 tschland;X-APPLE-RADIUS=72;X-TITLE=Johannes Kepler Sternwarte Weil der Sta
 dt:48.752784;8.861008
END:VEVENT
END:VCALENDAR