BEGIN:VCALENDAR
VERSION:2.0
PRODID:Events Booking
BEGIN:VEVENT
UID:69e738fed9ff9
SUMMARY:Matinee: Die seltsamen Monde von Jupiter und Saturn
DESCRIPTION:{gallery layout=\"flow\" rows=8 cols=3 preview_width=250 previe
 w_height=150 preview_crop=1 lightbox=\"boxplus/light\" lightbox_autofit=1}
 kepler-sternwarte/Veranstaltungen/Matinee_September_2024/{/gallery}Nach de
 r Sonne ist der Jupiter der größte Himmelskörper in unserem Sonnensyste
 m. Er ist der fünfte Planet von der Sonne aus gesehen\, ist eine ca. 318 
 mal größere Masse als die Erde und ist über 778 Millionen km von der So
 nne entfernt.&nbsp\;Noch spektakulärer ist die Anzahl der Monde des Jupit
 ers. Heute sind 92 Monde bekannt. Mit über 1426 Millionen km ist Saturn n
 och weiter von der Sonne entfernt. An seinem spektakulären Ringsystem wir
 d Saturn von jedem erkannt. Stand heute wurden 145 Monde um den Saturn bes
 tätigt.
 &nbsp\;
 Prof. Werner\, Astrophysiker der Universität Tübing
 en\, wird in einem Vortrag Interessantes und merkwürdiges über einige Mo
 nde des Jupiters und Saturn vorstellen. Die Präsentation richtet sich an 
 Kinder\,Jugendliche\, Eltern und Interessierte.&nbsp\;
 &nbsp\;
 Die Ver
 anstaltung findet im Kepler-Museum statt.
 &nbsp\;
 Routenplaner:
 &nbs
 p\;
LOCATION:Keplergasse 2\, Weil der Stadt\, 71263 Baden-Württemberg\, Deutsc
 hland
DTSTART:20240922T090000Z
DTSTAMP:20240903T085952Z
ORGANIZER;CN=workshop@ kepler-sternwarte.de:MAILTO:workshop@kepler-sternwar
 te.de
GEO:48.750261;8.870663
X-APPLE-STRUCTURED-LOCATION;VALUE=URI;X-ADDRESS=Keplergasse 2\, Weil der St
 adt\, 71263 Baden-Württemberg\, Deutschland;X-APPLE-RADIUS=72;X-TITLE=Kep
 ler-Museum Weil der Stadt:48.750261;8.870663
END:VEVENT
END:VCALENDAR