BEGIN:VCALENDAR
VERSION:2.0
PRODID:Events Booking
BEGIN:VEVENT
UID:69e79959d65e0
SUMMARY:Den Mond beobachten und selbst fotographieren 
DESCRIPTION:Am Dienstag\, den 16.04. findet an der Kepler-Sternwarte in Wei
 l der Stadt von 20-21Uhr\, bei geeignetem Wetter (Mond muss sichtbar sein)
 \, eine Mondbeobachtung statt. Es können dabei auch selbst\, unter Anleit
 ung\, Aufnahmen gemacht werden. Wer ein Android-Handy besitzt\, kann das m
 it bringen. Ansonsten nehmen wir mit einer Astrokamera Bilder auf\, die da
 nn entweder als Original oder als bearbeitet Dateien mitgenommen oder zuge
 schickt werden können. Wer nicht fotographieren möchte\, darf sich an sc
 hönen Bilder des Halbmondes durch unser Teleskop erfreuen. Fachliche Betr
 euung ist gewährleistet.
LOCATION:Johannes-Kepler-Gymnasium\, Max-Caspar-Straße 47\, Weil der Stadt
 \, Baden-Württemberg\, 71263\, Deutschland
DTSTART:20240416T180000Z
DTEND:20240416T190000Z
DTSTAMP:20240407T082724Z
ORGANIZER;CN=workshop@ kepler-sternwarte.de:MAILTO:workshop@kepler-sternwar
 te.de
GEO:48.752784;8.861008
X-APPLE-STRUCTURED-LOCATION;VALUE=URI;X-ADDRESS=Johannes-Kepler-Gymnasium\,
  Max-Caspar-Straße 47\, Weil der Stadt\, Baden-Württemberg\, 71263\, Deu
 tschland;X-APPLE-RADIUS=72;X-TITLE=Johannes Kepler Sternwarte Weil der Sta
 dt:48.752784;8.861008
END:VEVENT
END:VCALENDAR