BEGIN:VCALENDAR
VERSION:2.0
PRODID:Events Booking
BEGIN:VEVENT
UID:69e76c00c63f0
SUMMARY:Den Mond beobachten und selbst fotographieren
DESCRIPTION:Verschoben vom 14.6. auf den 13.6.!!
 &nbsp\;
 Auf der Kepler
 -Sternwarte in Weil der Stadt bieten wir\, bei geeignetem Wetter\, eine Mo
 ndbeobachtung an (Nur wenn der Mond auch sichtbar ist!). Es können dabei 
 auch selbst\, unter Anleitung\, Aufnahmen gemacht werden. Wer ein Android-
 Handy besitzt\, kann das mit bringen. Ansonsten nehmen wir mit einer Astro
 kamera Bilder auf\, die dann entweder als Original oder als bearbeitete Da
 teien mitgenommen oder zugeschickt werden können. Wer nicht fotographiere
 n möchte\, darf sich an schönen Bilder des Mondes durch unser Teleskop e
 rfreuen. Fachliche Betreuung ist gewährleistet.
 &nbsp\;
 Über diesen 
 Link können sich Benutzer mit Andoid Smartphones die App zum Verbinden mi
 t der USB-Kamera aus dem Google-App-Store heruntzerladen.
 &nbsp\;
 
 h
 ttps://play.google.com/store/apps/details?id=pl.nextcamera&amp\;pcampaigni
 d=web_share
 
 &nbsp\;
LOCATION:Johannes-Kepler-Gymnasium\, Max-Caspar-Straße 47\, Weil der Stadt
 \, Baden-Württemberg\, 71263\, Deutschland
DTSTART:20240613T190000Z
DTEND:20240613T200000Z
DTSTAMP:20240407T082724Z
ORGANIZER;CN=workshop@ kepler-sternwarte.de:MAILTO:workshop@kepler-sternwar
 te.de
GEO:48.752784;8.861008
X-APPLE-STRUCTURED-LOCATION;VALUE=URI;X-ADDRESS=Johannes-Kepler-Gymnasium\,
  Max-Caspar-Straße 47\, Weil der Stadt\, Baden-Württemberg\, 71263\, Deu
 tschland;X-APPLE-RADIUS=72;X-TITLE=Johannes Kepler Sternwarte Weil der Sta
 dt:48.752784;8.861008
END:VEVENT
END:VCALENDAR