BEGIN:VCALENDAR
VERSION:2.0
PRODID:Events Booking
BEGIN:VEVENT
UID:69e7c220d7873
SUMMARY:Das neue Weltall: Von Monstersternen und seltsamen Urgalaxien
DESCRIPTION:Rüdiger VaasBuchautor und FachjournalistOrt: Keplersaal im Pla
 netariumKassenöffnung eine halbe Stunde vor Beginn.Beginn: 20 UhrKein Kar
 tenvorverkauf. Keine Reservierung.Eintritt: 5\,00 €Kostenlos für Mitgli
 eder der Schwäbischen Sternwarte e. V.\, der&nbsp\;Kepler-Gesellschaft e.
 V. und der Gesellschaft zur Förderung des&nbsp\;Planetariums Stuttgart un
 d der Sternwarte Welzheim e.V.
LOCATION:Willy-Brandt-Straße\, Stuttgart\, 70173 Baden-Württemberg\, Deut
 schland
DTSTART:20240223T190000Z
DTEND:20240223T200000Z
DTSTAMP:20240107T093152Z
ORGANIZER;CN=workshop@ kepler-sternwarte.de:MAILTO:workshop@kepler-sternwar
 te.de
GEO:48.78344;9.186892
X-APPLE-STRUCTURED-LOCATION;VALUE=URI;X-ADDRESS=Willy-Brandt-Straße\, Stut
 tgart\, 70173 Baden-Württemberg\, Deutschland;X-APPLE-RADIUS=72;X-TITLE=P
 lanetarium Stuttgart:48.78344;9.186892
END:VEVENT
END:VCALENDAR