BEGIN:VCALENDAR
VERSION:2.0
PRODID:Events Booking
BEGIN:VEVENT
UID:69e88e05e3527
SUMMARY:Astronomischer Jour Fix Mai
DESCRIPTION:
DTSTART:20230602T180000Z
DTEND:20230602T190000Z
DTSTAMP:20230131T193933Z
ORGANIZER;CN=workshop@ kepler-sternwarte.de:MAILTO:workshop@kepler-sternwar
 te.de
END:VEVENT
END:VCALENDAR