BEGIN:VCALENDAR
VERSION:2.0
PRODID:Events Booking
BEGIN:VEVENT
UID:69e7c77c12a30
SUMMARY:Astronomischer Jour Fix
DESCRIPTION:
LOCATION:Max-Caspar-Straße\,47  Weil der Stadt\, 71263 Baden-Württemberg\
 , Deutschland
DTSTART:20240202T180000Z
DTEND:20240202T200000Z
DTSTAMP:20230131T193933Z
ORGANIZER;CN=workshop@ kepler-sternwarte.de:MAILTO:workshop@kepler-sternwar
 te.de
GEO:48.751763;8.860437
X-APPLE-STRUCTURED-LOCATION;VALUE=URI;X-ADDRESS=Max-Caspar-Straße\,47  Wei
 l der Stadt\, 71263 Baden-Württemberg\, Deutschland;X-APPLE-RADIUS=72;X-T
 ITLE=Johannes Kepler Gymnasium Physik Saal:48.751763;8.860437
END:VEVENT
END:VCALENDAR