BEGIN:VCALENDAR
VERSION:2.0
PRODID:Events Booking
BEGIN:VEVENT
UID:69e79d0e012d3
SUMMARY:Astronomie für ALLE!
DESCRIPTION:
 Sehr geehrte Astronomiebegeisterte und Himmelsstürmer\,
 w
 ir laden Sie herzlich zu unserem monatlichen Astronomietreffen ein\, das i
 n der Sternwarte der Kepler Gesellschaft in Weil der Stadt stattfindet. Je
 den zweiten Freitag im Monat um 20:00 Uhr für alle\, die bereit sind\, mi
 t uns gemeinsam über faszinierendste Schauspiele des Universums zu sprech
 en und den Nachthimmel zu erkunden.
 Unabhängig vom Wetter\, kommen wir 
 zusammen\, um eine Atmosphäre zu schaffen\, die Wissen\, Information\, Fr
 eude und Lachen miteinander vereint. Mit einführenden\, leicht verständl
 ichen Vorträgen in die Welt der Astronomie und des Kosmos einzutauchen. U
 nsere Treffen sind darauf ausgerichtet\, Fragen zu beantworten\, Neugier z
 u wecken und gemeinsam Themen rund um das Universum und seine unendlichen 
 Wunder zu erkunden. Sie können Themen frei wählen.
 Besucher jeden Alte
 rs sind bei uns willkommen – ob Jung oder Alt\, Neuling oder erfahrener 
 Himmelsbeobachter\, wir versprechen Ihnen Abende mit Informationen und ang
 eregten Diskussionen. Je nach Wetterlage ergänzen wir unsere Gespräche m
 it direkten Beobachtungen am Teleskop. Vielleicht gelingt es Theorie mit d
 er faszinierenden Praxis der Himmelsbeobachtung zu verbinden.
 Treten Sie
  ein in einen Raum\, wo die Grenzen des Bekannten sich auflösen und das U
 niversum mit all seinen Rätseln zum Greifen nah erscheint.&nbsp\; Lassen 
 Sie uns gemeinsam die Schönheit des Sternenhimmels und des Universums erk
 unden. Ihre Teilnahme wird das Treffen bereichern und Ihnen neue Perspekti
 ven eröffnen. Wir freuen uns darauf\, Sie willkommen zu heißen und mit u
 ns gemeinsam in die Tiefen des Alls einzutauchen.
 Freuen Sie sich auf ei
 nen Abend\, der sowohl den Geist als auch die Sinne belebt. Kommen Sie zu 
 uns\, werden Sie Teil eines Treffens\, das die Leidenschaft für das Unend
 liche teilt.
 Herzlichst\,
 Ihr Astronomietreff-Team
 
LOCATION:Johannes-Kepler-Gymnasium\, Max-Caspar-Straße 47\, Weil der Stadt
 \, Baden-Württemberg\, 71263\, Deutschland
DTSTART:20240412T180000Z
DTEND:20240412T200000Z
DTSTAMP:20240330T202125Z
ORGANIZER;CN=workshop@ kepler-sternwarte.de:MAILTO:workshop@kepler-sternwar
 te.de
GEO:48.752784;8.861008
X-APPLE-STRUCTURED-LOCATION;VALUE=URI;X-ADDRESS=Johannes-Kepler-Gymnasium\,
  Max-Caspar-Straße 47\, Weil der Stadt\, Baden-Württemberg\, 71263\, Deu
 tschland;X-APPLE-RADIUS=72;X-TITLE=Johannes Kepler Sternwarte Weil der Sta
 dt:48.752784;8.861008
END:VEVENT
END:VCALENDAR