BEGIN:VCALENDAR
VERSION:2.0
PRODID:Events Booking
BEGIN:VEVENT
UID:69e7390ddf79e
SUMMARY:Astronomie für ALLE!
DESCRIPTION:Hinweis:
 Die Teilnehmer an der Veranstaltung \"Astronomie fü
 r Alle!\" treffen sich beim Bürgertreff-Vortrag&nbsp\; \"Gezähmte Sonne 
 - Kernfusion als unerschöpfliche Energiequelle?\" in Ostelsheim um 19:30 
 Uhr. Bei schönem Wetter\, werden die Teilnehmer eingeladen\, von Ostelshe
 im zur Sternwarte nach Weil der Stadt zu fahren\, um and den Sternbeobacht
 ungen und Erklärungen um 22:00 teilzunehmen.
 Details unter:&nbsp\;https
 ://www.buergertreff-ostelsheim.de/
 &nbsp\;
 Sehr geehrte Astronomiebege
 isterte\,
 wir laden Sie herzlich jeden zweiten Freitag im Monat um 20:00
  Uhr zu unserem monatlichen Astronomietreffen in der Sternwarte der Kepler
  Gesellschaft in Weil der Stadt ein. Erkunden Sie den Nachthimmel und disk
 utieren Sie gemeinsam mit uns über das Universum.
 Unabhängig vom Wette
 r\, kommen wir zusammen\, um eine Atmosphäre zu schaffen\, die Wissen\, I
 nformation\, Freude und Lachen miteinander vereint. Mit einführenden\, le
 icht verständlichen Vorträgen in die Welt der Astronomie und des Kosmos 
 einzutauchen. Unsere Treffen sind darauf ausgerichtet\, Fragen zu beantwor
 ten\, Neugier zu wecken und gemeinsam Themen rund um das Universum zu erku
 nden.
 Besucher jeden Alters sind bei uns willkommen – ob Jung oder Alt
 \, Neuling oder erfahrener Himmelsbeobachter\, wir versprechen Ihnen Abend
 e mit Informationen und angeregten Diskussionen. Je nach Wetterlage ergän
 zen wir unsere Gespräche mit direkten Beobachtungen am Teleskop. Vielleic
 ht gelingt es Theorie mit der Praxis der Himmelsbeobachtung zu verbinden.
 
 Themen werden noch bekanntgegeben.
 Ihr Astronomietreff-Team
LOCATION:Johannes-Kepler-Gymnasium\, Max-Caspar-Straße 47\, Weil der Stadt
 \, Baden-Württemberg\, 71263\, Deutschland
DTSTART:20240913T173000Z
DTEND:20240913T200000Z
DTSTAMP:20240330T202125Z
ORGANIZER;CN=workshop@ kepler-sternwarte.de:MAILTO:workshop@kepler-sternwar
 te.de
GEO:48.752784;8.861008
X-APPLE-STRUCTURED-LOCATION;VALUE=URI;X-ADDRESS=Johannes-Kepler-Gymnasium\,
  Max-Caspar-Straße 47\, Weil der Stadt\, Baden-Württemberg\, 71263\, Deu
 tschland;X-APPLE-RADIUS=72;X-TITLE=Johannes Kepler Sternwarte Weil der Sta
 dt:48.752784;8.861008
END:VEVENT
END:VCALENDAR