BEGIN:VCALENDAR
VERSION:2.0
PRODID:Events Booking
BEGIN:VEVENT
UID:69e845b8e2652
SUMMARY:20 Jahre Johannes-Kepler-Sternwarte und 10 Jahre Jugendgruppe
DESCRIPTION:Die Kepler-Gesellschaft möchte Sie ganz herzlich zu unserer Ju
 biläumsveranstaltung&nbsp\; \"20 Jahre Johannes-Kepler-Sternwarte und 10 
 Jahre Jugendgruppe\" einladen. Diese Veranstaltung findet am&nbsp\;9. Sept
 ember 2023 im Kepler-Saal des Johannes-Kepler-Gymnasiums&nbsp\; und auf de
 r Kepler-Sternwarte ab 15 Uhr&nbsp\;statt.
 (Max-Caspar-Str. 47\, 71263 W
 el der Stadt)&nbsp\;
 &nbsp\;
 Programm der Jubiläumsveranstaltung
 15
 :00 - Eröffnung
 16:00 -&nbsp\;Sonnenbeobachtung auf der Sternwarte (Vor
 aussetzung Sonnenschein :-)) und Fotoausstellung im Keplersaal
 16:30 -&n
 bsp\;Begrüßung durch unseren Vorsitzenden Prof. Werner (Institut für As
 tronomie ud Astrophysik\, Universiät Tübingen)\,&nbsp\; Urkundenübergab
 e an die \"Asteroidensucher\" der Jugendgruppe
 17:00 - \"Asteroidensuche
 \"&nbsp\;Vortrag von Joakim Wiest\, Jugendgruppe
 17:30 - \"Keplers Super
 nova\" Vortrag von Hildrun Bäzner-Zehender\, Kepler-Sternwarte
 &nbsp\;
 
 Pause
 &nbsp\;
 18:30 -&nbsp\;\"Kosmische Entfernungsmessungen\" Vortr
 ag von Albert Kummutat\, Kepler-Sternwarte
 19:00 -&nbsp\;\"Himmelsüberw
 achung\" Vortrag von Markus Kempf\, Kepler-Sternwarte
 19:30 -&nbsp\;\"Pe
 rlen des Südhimmles\" Fotovortrag von Dieter Ludwig\, Kepler-Sternwarte

  ab 20:00 Saturnbeobachtung auf der Sternwarte
 &nbsp\;
 In der Mitmacha
 usstellung „Astronomie für Klein und Groß“ gibt es viele astronomisc
 he Zusammenhänge zu entdecken. Aus Anlass ihres Jubiläums hat die Jugend
 gruppe diese Ausstellung erarbeitet.
 &nbsp\;
 Lassen Sie sich mit astro
 nomischen Beobachtungen\, zahlreichen Vorträgen und mit auf der Kepler-St
 ernwarte aufgenommenen Astro-Fotos sowie mit vielen Informationen zu Himme
 lsobjekten und zur praktischen Astronomie überraschen.&nbsp\;
 &nbsp\;

  Wir freuen uns auf viele kleine und große Besucher. An diesem Abend ist 
 der Eintritt frei\, Spenden sind willkommen.
 &nbsp\;
 Progamm der Jubil
 äumsveranstaltung
LOCATION:Johannes-Kepler-Gymnasium\, Max-Caspar-Straße 47\, Weil der Stadt
 \, Baden-Württemberg\, 71263\, Deutschland
DTSTART:20230909T130000Z
DTEND:20230909T200000Z
DTSTAMP:20230523T064521Z
ORGANIZER;CN=workshop@ kepler-sternwarte.de:MAILTO:workshop@kepler-sternwar
 te.de
GEO:48.752784;8.861008
X-APPLE-STRUCTURED-LOCATION;VALUE=URI;X-ADDRESS=Johannes-Kepler-Gymnasium\,
  Max-Caspar-Straße 47\, Weil der Stadt\, Baden-Württemberg\, 71263\, Deu
 tschland;X-APPLE-RADIUS=72;X-TITLE=Johannes Kepler Sternwarte Weil der Sta
 dt:48.752784;8.861008
END:VEVENT
END:VCALENDAR